BEGIN:VCALENDAR
VERSION:2.0
PRODID:Events Booking
BEGIN:VEVENT
UID:69e9bcf290bf2
SUMMARY:20 February 2025 - ReImagine Road Safety Summit
DESCRIPTION:
LOCATION:1 Country St\,  Lakefield\, Benoni\, 1501
DTSTART:20250220T070000Z
DTEND:20250220T130000Z
DTSTAMP:20241205T045548Z
ORGANIZER;CN=Transport Forum:MAILTO:info@transportsig.com
GEO:-26.1812;28.30356
X-APPLE-STRUCTURED-LOCATION;VALUE=URI;X-ADDRESS=1 Country St\,  Lakefield\,
  Benoni\, 1501;X-APPLE-RADIUS=72;X-TITLE=ANEW Hotel and Convention Centre 
 OR Tambo Johannesburg:-26.1812;28.30356
END:VEVENT
END:VCALENDAR