BEGIN:VCALENDAR
VERSION:2.0
PRODID:Events Booking
BEGIN:VEVENT
UID:69e88e119e456
SUMMARY:29 August 2024 - Regional Integration
DESCRIPTION:
LOCATION:53 Bunting Rd\, Cottesloe\, Johannesburg\, 2092
DTSTART:20240829T070000Z
DTEND:20240829T110000Z
DTSTAMP:20240118T101510Z
ORGANIZER;CN=Transport Forum:MAILTO:info@transportsig.com
END:VEVENT
END:VCALENDAR