BEGIN:VCALENDAR
VERSION:2.0
PRODID:Events Booking
BEGIN:VEVENT
UID:69e831eef1f35
SUMMARY:3 December 2024 - Navigating Towards Success: Harnessing the Power 
 of GNU for Sustainable Logistics Growth
DESCRIPTION:
LOCATION:64 Jones Rd\, Kempton Park\, Johannesburg\, 1620
DTSTART:20241203T070000Z
DTEND:20241203T140000Z
DTSTAMP:20240119T063027Z
ORGANIZER;CN=Transport Forum:MAILTO:info@transportsig.com
END:VEVENT
END:VCALENDAR