BEGIN:VCALENDAR
VERSION:2.0
PRODID:Events Booking
BEGIN:VEVENT
UID:69e92c600852e
SUMMARY:30 October 2025 - RTMS Awareness Workshop
DESCRIPTION:
LOCATION:No. 8 Havenga Street\, Bo-Oakdale\, Cape Town\, 7530
DTSTART:20251030T060000Z
DTEND:20251030T120000Z
DTSTAMP:20250402T060501Z
ORGANIZER;CN=Transport Forum:MAILTO:info@transportsig.com
END:VEVENT
END:VCALENDAR