BEGIN:VCALENDAR
VERSION:2.0
PRODID:Events Booking
BEGIN:VEVENT
UID:69e978634b688
SUMMARY:5 June 2025 - Data to enable the Power to Predict
DESCRIPTION:
LOCATION:Setperk Road\, Randpark\, Randburg\, Johannesburg
DTSTART:20250605T070000Z
DTEND:20250605T130000Z
DTSTAMP:20250402T060501Z
ORGANIZER;CN=Transport Forum:MAILTO:info@transportsig.com
END:VEVENT
END:VCALENDAR