BEGIN:VCALENDAR
VERSION:2.0
PRODID:Events Booking
BEGIN:VEVENT
UID:69e8e9343a8a6
SUMMARY:7 March 2024 - Last Mile Logistics
DESCRIPTION:
LOCATION:53 Bunting Rd\, Cottesloe\, Johannesburg\, 2092
DTSTART:20240307T070000Z
DTEND:20240307T110000Z
DTSTAMP:20240118T101510Z
ORGANIZER;CN=Transport Forum:MAILTO:info@transportsig.com
END:VEVENT
END:VCALENDAR