BEGIN:VCALENDAR
VERSION:2.0
PRODID:Events Booking
BEGIN:VEVENT
UID:69e94ed72273d
SUMMARY:SABOA Technical and Operations meeting (Members only)
DESCRIPTION:
LOCATION:Johannesburg Expo Centre Corner Nasrec & Randshow Roads\, Johannes
 burg\, 2091
DTSTART:20230905T080000Z
DTEND:20230905T130000Z
DTSTAMP:20230725T132611Z
ORGANIZER;CN=Transport Forum:MAILTO:info@transportsig.com
END:VEVENT
END:VCALENDAR