BEGIN:VCALENDAR
VERSION:2.0
PRODID:Events Booking
BEGIN:VEVENT
UID:69e80594edbbf
SUMMARY:11 July 2024 - Digital Dynamics: Reshaping the Landscape of Freight
  & Logistics
DESCRIPTION:
LOCATION:Plot 66\, C/O Olympus Rd and\, Leander Rd\, Faerie Glen\, Pretoria
 \, 0081
DTSTART:20240711T070000Z
DTEND:20240711T110000Z
DTSTAMP:20240119T054515Z
ORGANIZER;CN=Transport Forum:MAILTO:info@transportsig.com
END:VEVENT
END:VCALENDAR