BEGIN:VCALENDAR
VERSION:2.0
PRODID:Events Booking
BEGIN:VEVENT
UID:69e9798429d23
SUMMARY:11th Annual PCC and NPCC Port Performance Roadshow 2025: Cape Town
DESCRIPTION:
LOCATION:The Maritime Training Centre\, Port of Cape Town 
DTSTART:20250509T060000Z
DTEND:20250509T150000Z
DTSTAMP:20250414T180009Z
ORGANIZER;CN=Transport Forum:MAILTO:info@transportsig.com
END:VEVENT
END:VCALENDAR