BEGIN:VCALENDAR
VERSION:2.0
PRODID:Events Booking
BEGIN:VEVENT
UID:69e979750a47d
SUMMARY:11th Annual PCC and NPCC Port Performance Roadshow 2025: Durban 
DESCRIPTION:
LOCATION:N Shed – Port of Durban
DTSTART:20250514T060000Z
DTEND:20250514T150000Z
DTSTAMP:20250414T180347Z
ORGANIZER;CN=Transport Forum:MAILTO:info@transportsig.com
END:VEVENT
END:VCALENDAR