BEGIN:VCALENDAR
VERSION:2.0
PRODID:Events Booking
BEGIN:VEVENT
UID:69e97989873b3
SUMMARY:11th Annual PCC and NPCC Port Performance Roadshow 2025: East Londo
 n
DESCRIPTION:
LOCATION:The View\, Latimer’s Landing – Port of East London
DTSTART:20250520T060000Z
DTEND:20250520T150000Z
DTSTAMP:20250414T182055Z
ORGANIZER;CN=Transport Forum:MAILTO:info@transportsig.com
END:VEVENT
END:VCALENDAR