BEGIN:VCALENDAR
VERSION:2.0
PRODID:Events Booking
BEGIN:VEVENT
UID:69e979872bca9
SUMMARY:11th Annual PCC and NPCC Port Performance Roadshow 2025: Mossel Bay
DESCRIPTION:
LOCATION:Town Hall\, Marsh Road
DTSTART:20250528T060000Z
DTEND:20250528T150000Z
DTSTAMP:20250414T181544Z
ORGANIZER;CN=Transport Forum:MAILTO:info@transportsig.com
END:VEVENT
END:VCALENDAR