BEGIN:VCALENDAR
VERSION:2.0
PRODID:Events Booking
BEGIN:VEVENT
UID:69e979aea3fe4
SUMMARY:11th Annual PCC and NPCC Port Performance Roadshow 2025: Ports of P
 E and Ngqura
DESCRIPTION:
LOCATION:TNPA eMendi Admin Building Port of Ngqura
DTSTART:20250522T060000Z
DTEND:20250522T150000Z
DTSTAMP:20250414T181244Z
ORGANIZER;CN=Transport Forum:MAILTO:info@transportsig.com
END:VEVENT
END:VCALENDAR