BEGIN:VCALENDAR
VERSION:2.0
PRODID:Events Booking
BEGIN:VEVENT
UID:69e97974a2a71
SUMMARY:11th Annual PCC and NPCC Port Performance Roadshow 2025: Richards B
 ay
DESCRIPTION:
DTSTART:20250516T060000Z
DTEND:20250516T150000Z
DTSTAMP:20250414T180728Z
ORGANIZER;CN=Transport Forum:MAILTO:info@transportsig.com
END:VEVENT
END:VCALENDAR