BEGIN:VCALENDAR
VERSION:2.0
PRODID:Events Booking
BEGIN:VEVENT
UID:69e97978b90ae
SUMMARY:11th Annual PCC and NPCC Port Performance: Saldanha Bay
DESCRIPTION:
LOCATION:Siyabonga Hall
DTSTART:20250508T060000Z
DTEND:20250508T150000Z
DTSTAMP:20250414T174546Z
ORGANIZER;CN=Transport Forum:MAILTO:info@transportsig.com
END:VEVENT
END:VCALENDAR