BEGIN:VCALENDAR
VERSION:2.0
PRODID:Events Booking
BEGIN:VEVENT
UID:69e8d7565a4e4
SUMMARY:12 February 2026 - Breaking the Bottlenecks
DESCRIPTION:
LOCATION:Johannesburg
DTSTART:20260212T070000Z
DTEND:20260212T103000Z
DTSTAMP:20250127T060602Z
ORGANIZER;CN=Transport Forum:MAILTO:info@transportsig.com
END:VEVENT
END:VCALENDAR