BEGIN:VCALENDAR
VERSION:2.0
PRODID:Events Booking
BEGIN:VEVENT
UID:69ea02990516f
SUMMARY:12 September 2024 - Exploring Road Transport Innovations for Drivin
 g Sustainable Supply Chains
DESCRIPTION:
LOCATION:Virtual
DTSTART:20240912T070000Z
DTEND:20240912T120000Z
DTSTAMP:20240118T101510Z
ORGANIZER;CN=Transport Forum:MAILTO:info@transportsig.com
END:VEVENT
END:VCALENDAR