BEGIN:VCALENDAR
VERSION:2.0
PRODID:Events Booking
BEGIN:VEVENT
UID:69e8c4e8128d0
SUMMARY:13 May 2026 - Reinvent for Growth
DESCRIPTION:
LOCATION:1 Kingsmead Way\, Kingsmead\, Durban
DTSTART:20260513T070000Z
DTEND:20260513T130000Z
DTSTAMP:20251211T053421Z
ORGANIZER;CN=Transport Forum:MAILTO:info@transportsig.com
END:VEVENT
END:VCALENDAR