BEGIN:VCALENDAR
VERSION:2.0
PRODID:Events Booking
BEGIN:VEVENT
UID:69e90cdd3e87b
SUMMARY:13 November 2025 - Public Transport: Today's Challenges and Opportu
 nities
DESCRIPTION:
LOCATION:Virtual
DTSTART:20251113T070000Z
DTEND:20251113T100000Z
DTSTAMP:20250402T060501Z
ORGANIZER;CN=Transport Forum:MAILTO:info@transportsig.com
END:VEVENT
END:VCALENDAR