BEGIN:VCALENDAR
VERSION:2.0
PRODID:Events Booking
BEGIN:VEVENT
UID:69e91be91ba4b
SUMMARY:14-15 October 2026 - Transport Indaba
DESCRIPTION:
LOCATION:Johannesburg
DTSTART:20261014T070000Z
DTEND:20261015T130000Z
DTSTAMP:20251211T055054Z
ORGANIZER;CN=Transport Forum:MAILTO:info@transportsig.com
END:VEVENT
END:VCALENDAR