BEGIN:VCALENDAR
VERSION:2.0
PRODID:Events Booking
BEGIN:VEVENT
UID:69ea6f9482817
SUMMARY:14 March 2024 - The Focus on Africa
DESCRIPTION:
LOCATION:Virtual
DTSTART:20240314T070000Z
DTEND:20240314T090000Z
DTSTAMP:20240118T101510Z
ORGANIZER;CN=Transport Forum:MAILTO:info@transportsig.com
END:VEVENT
END:VCALENDAR