BEGIN:VCALENDAR
VERSION:2.0
PRODID:Events Booking
BEGIN:VEVENT
UID:69e8c403ddf93
SUMMARY:14 May 2026 - Driving Sustainable Growth with RTMS and PBS
DESCRIPTION:
LOCATION:1 Kingsmead Way\, Kingsmead\, Durban
DTSTART:20260514T070000Z
DTEND:20260514T130000Z
DTSTAMP:20251211T053421Z
ORGANIZER;CN=Transport Forum:MAILTO:info@transportsig.com
END:VEVENT
END:VCALENDAR