BEGIN:VCALENDAR
VERSION:2.0
PRODID:Events Booking
BEGIN:VEVENT
UID:69eaca1164946
SUMMARY:15th Cool Logistics Global Conference 10 -12 October 2023 Genoa
DESCRIPTION:
LOCATION:Italy
DTSTART:20231010T060000Z
DTEND:20231012T143000Z
DTSTAMP:20230628T193001Z
ORGANIZER;CN=Transport Forum:MAILTO:info@transportsig.com
END:VEVENT
END:VCALENDAR