BEGIN:VCALENDAR
VERSION:2.0
PRODID:Events Booking
BEGIN:VEVENT
UID:69e8b1d2330f9
SUMMARY:16 April 2026 - Safety and Security in Transport
DESCRIPTION:
LOCATION:School of Tourism and Hospitality (STH)
DTSTART:20260416T070000Z
DTEND:20260416T130000Z
DTSTAMP:20251211T053421Z
ORGANIZER;CN=Transport Forum:MAILTO:info@transportsig.com
END:VEVENT
END:VCALENDAR