BEGIN:VCALENDAR
VERSION:2.0
PRODID:Events Booking
BEGIN:VEVENT
UID:69e9f2df9622f
SUMMARY:16 October 2024 - Public Transport in South Africa
DESCRIPTION:
LOCATION:53 Bunting Rd\, Cottesloe\, Johannesburg\, 2092
DTSTART:20241016T070000Z
DTEND:20241016T110000Z
DTSTAMP:20240118T101510Z
ORGANIZER;CN=Transport Forum:MAILTO:info@transportsig.com
END:VEVENT
END:VCALENDAR