BEGIN:VCALENDAR
VERSION:2.0
PRODID:Events Booking
BEGIN:VEVENT
UID:69e91d0a96679
SUMMARY:16 October 2025 - Freight Villages and Inland Terminals
DESCRIPTION:
LOCATION:Virtual
DTSTART:20251016T070000Z
DTEND:20251016T120000Z
DTSTAMP:20250127T053448Z
ORGANIZER;CN=Transport Forum:MAILTO:info@transportsig.com
END:VEVENT
END:VCALENDAR