BEGIN:VCALENDAR
VERSION:2.0
PRODID:Events Booking
BEGIN:VEVENT
UID:69e9897162c5d
SUMMARY:17 April 2025 - Risk Management and Safety in Transport
DESCRIPTION:
LOCATION:53 Bunting Rd\, Cottesloe\, Johannesburg\, 2092
DTSTART:20250417T070000Z
DTEND:20250417T120000Z
DTSTAMP:20250127T043956Z
ORGANIZER;CN=Transport Forum:MAILTO:info@transportsig.com
END:VEVENT
END:VCALENDAR