BEGIN:VCALENDAR
VERSION:2.0
PRODID:Events Booking
BEGIN:VEVENT
UID:69e90ae27bea6
SUMMARY:17 November 2025 - SABOA Rustenburg Bus Industry Connect
DESCRIPTION:
LOCATION: Upper East Side\, 1 Abbey St\, Cashan
DTSTART:20251117T060000Z
DTEND:20251117T120000Z
DTSTAMP:20250127T060252Z
ORGANIZER;CN=Transport Forum:MAILTO:info@transportsig.com
GEO:3;0
X-APPLE-STRUCTURED-LOCATION;VALUE=URI;X-ADDRESS= Upper East Side\, 1 Abbey 
 St\, Cashan;X-APPLE-RADIUS=72;X-TITLE=Rustenburg Civic Centre:3;0
END:VEVENT
END:VCALENDAR