BEGIN:VCALENDAR
VERSION:2.0
PRODID:Events Booking
BEGIN:VEVENT
UID:69e90aa31cc80
SUMMARY:17 September 2026 - Public Transport in Perspective (Transport Mont
 h Celebrations)
DESCRIPTION:
LOCATION:Johannesburg
DTSTART:20260917T070000Z
DTEND:20260917T140000Z
DTSTAMP:20251211T055215Z
ORGANIZER;CN=Transport Forum:MAILTO:info@transportsig.com
END:VEVENT
END:VCALENDAR