BEGIN:VCALENDAR
VERSION:2.0
PRODID:Events Booking
BEGIN:VEVENT
UID:69e92e77454f3
SUMMARY:18 September 2025 - Launch of a Game Changing Platform for South Af
 rica
DESCRIPTION:
DTSTART:20250918T070000Z
DTEND:20250918T130000Z
DTSTAMP:20250127T052754Z
ORGANIZER;CN=Transport Forum:MAILTO:info@transportsig.com
END:VEVENT
END:VCALENDAR