BEGIN:VCALENDAR
VERSION:2.0
PRODID:Events Booking
BEGIN:VEVENT
UID:69e989c0a8a01
SUMMARY:19TH SLN VIRTUAL ONE-ON-ONE CONFERENCE
DESCRIPTION:FREIGHT FORWARDERS JOIN 19TH SLN VIRTUAL ONE-ON-ONE CONFERENCE 
 ON&nbsp\;APRIL 29 - 30\, 2025 (UTC+7) FREE OF CHARGE! 
 &nbsp\;
 DEAR FR
 EIGHT FORWARDERS\,
 Smile Logistics Networks (SLN) welcome&nbsp\;worldwid
 e freight forwarders&nbsp\;join our 19th SLN Virtual&nbsp\;One-On-One Conf
 erence on&nbsp\;April 29 - 30\, 2025 (UTC+7) to negotiate business with ou
 r&nbsp\;123 members from 53 countries&nbsp\;FREE OF CHARGE! .
 If you wou
 ld like to join\, please contact&nbsp\;Mr. Anan at email: Anan@SmileLogist
 icsNetworks.COM or WhatsApp no: +6685-545-6449.
 &nbsp\;
 &nbsp\;
LOCATION:Virtual
DTSTART:20250429T060000Z
DTEND:20250430T150000Z
DTSTAMP:20250130T214449Z
ORGANIZER;CN=Transport Forum:MAILTO:info@transportsig.com
END:VEVENT
END:VCALENDAR