BEGIN:VCALENDAR
VERSION:2.0
PRODID:Events Booking
BEGIN:VEVENT
UID:69e8e7e3bc3d2
SUMMARY:2 July 2026 - IPTN Implementation Feedback
DESCRIPTION:
LOCATION:Virtual
DTSTART:20260702T070000Z
DTEND:20260702T120000Z
DTSTAMP:20251211T054706Z
ORGANIZER;CN=Transport Forum:MAILTO:info@transportsig.com
END:VEVENT
END:VCALENDAR