BEGIN:VCALENDAR
VERSION:2.0
PRODID:Events Booking
BEGIN:VEVENT
UID:69ea6f9518404
SUMMARY:20 March 2024 - ARIA AGM
DESCRIPTION:
LOCATION:Virtual
DTSTART:20240320T080000Z
DTEND:20240320T100000Z
DTSTAMP:20240118T102712Z
ORGANIZER;CN=Transport Forum:MAILTO:info@transportsig.com
END:VEVENT
END:VCALENDAR