BEGIN:VCALENDAR
VERSION:2.0
PRODID:Events Booking
BEGIN:VEVENT
UID:69e99c3dd434c
SUMMARY:2025 Africa Energy Indaba
DESCRIPTION:
LOCATION:Cape Town
DTSTART:20250304T060000Z
DTEND:20250305T150000Z
DTSTAMP:20241212T062636Z
ORGANIZER;CN=Transport Forum:MAILTO:info@transportsig.com
END:VEVENT
END:VCALENDAR