BEGIN:VCALENDAR
VERSION:2.0
PRODID:Events Booking
BEGIN:VEVENT
UID:69e91c790503f
SUMMARY:2025 Road Freight SME Summit
DESCRIPTION:
LOCATION:Indaba Hotel\, Four Ways
DTSTART:20251016T060000Z
DTEND:20251017T140000Z
DTSTAMP:20251015T051700Z
ORGANIZER;CN=Transport Forum:MAILTO:info@transportsig.com
END:VEVENT
END:VCALENDAR