BEGIN:VCALENDAR
VERSION:2.0
PRODID:Events Booking
BEGIN:VEVENT
UID:69e8e83a72fef
SUMMARY:2026 Warehousing Conference: A Distribution Revolution
DESCRIPTION:
LOCATION: Johannesburg\, South Africa
DTSTART:20260709T060000Z
DTEND:20260709T150000Z
DTSTAMP:20260414T155507Z
ORGANIZER;CN=Transport Forum:MAILTO:info@transportsig.com
END:VEVENT
END:VCALENDAR