BEGIN:VCALENDAR
VERSION:2.0
PRODID:Events Booking
BEGIN:VEVENT
UID:69eb1715e5328
SUMMARY:22 June 2023 - Innovations Driving Sustainability in Road Transport
DESCRIPTION:
LOCATION:Virtual
DTSTART:20230622T070000Z
DTSTAMP:20230606T111607Z
ORGANIZER;CN=Transport Forum:MAILTO:info@transportsig.com
END:VEVENT
END:VCALENDAR