BEGIN:VCALENDAR
VERSION:2.0
PRODID:Events Booking
BEGIN:VEVENT
UID:69e9794d7d06c
SUMMARY:22 May 2025 - Moving Freight from Road to Rail
DESCRIPTION:
LOCATION:Virtual
DTSTART:20250522T070000Z
DTEND:20250522T120000Z
DTSTAMP:20250402T060501Z
ORGANIZER;CN=Transport Forum:MAILTO:info@transportsig.com
END:VEVENT
END:VCALENDAR