BEGIN:VCALENDAR
VERSION:2.0
PRODID:Events Booking
BEGIN:VEVENT
UID:69e91ce1e1506
SUMMARY:23 October 2025 - Transport Forum SIG hosted by SAAFF
DESCRIPTION:
 Virtual Transport Forum SIG hosted by the Southern African A
 ssociation of Freight Forwarders (SAAFF)
 Programme will be confirmed soo
 nest
LOCATION:Virtual
DTSTART:20251023T070000Z
DTEND:20251023T120000Z
DTSTAMP:20250204T130143Z
ORGANIZER;CN=Transport Forum:MAILTO:info@transportsig.com
END:VEVENT
END:VCALENDAR