BEGIN:VCALENDAR
VERSION:2.0
PRODID:Events Booking
BEGIN:VEVENT
UID:69ea5b890bb08
SUMMARY:25 April 2024 - Transport Forum SIG
DESCRIPTION:
LOCATION:Virtual
DTSTART:20240425T070000Z
DTEND:20240425T100000Z
DTSTAMP:20240119T052452Z
ORGANIZER;CN=Transport Forum:MAILTO:info@transportsig.com
END:VEVENT
END:VCALENDAR