BEGIN:VCALENDAR
VERSION:2.0
PRODID:Events Booking
BEGIN:VEVENT
UID:69ea4b50b406a
SUMMARY:25th Annual Road Traffic and Transport Legislation Workshop
DESCRIPTION:
LOCATION:Umhlanga – Gateway Hotel
DTSTART:20240516T060000Z
DTEND:20240516T150000Z
DTSTAMP:20240229T103314Z
ORGANIZER;CN=Transport Forum:MAILTO:info@transportsig.com
END:VEVENT
END:VCALENDAR