BEGIN:VCALENDAR
VERSION:2.0
PRODID:Events Booking
BEGIN:VEVENT
UID:69e8d76801a00
SUMMARY:26 February 2026 - The Power of Local
DESCRIPTION:
 
 
 
 
LOCATION:Virtual
DTSTART:20260226T080000Z
DTEND:20260226T103000Z
DTSTAMP:20251211T053609Z
ORGANIZER;CN=Transport Forum:MAILTO:info@transportsig.com
END:VEVENT
END:VCALENDAR