BEGIN:VCALENDAR
VERSION:2.0
PRODID:Events Booking
BEGIN:VEVENT
UID:69e8c1ce67795
SUMMARY:26 March 2026 - ARIA AGM Closed session for members only
DESCRIPTION:
LOCATION:Virtual
DTSTART:20260326T070000Z
DTEND:20260326T083000Z
DTSTAMP:20260206T092230Z
ORGANIZER;CN=Transport Forum:MAILTO:info@transportsig.com
END:VEVENT
END:VCALENDAR