BEGIN:VCALENDAR
VERSION:2.0
PRODID:Events Booking
BEGIN:VEVENT
UID:69e8c501e0a50
SUMMARY:26 March 2026 - The Power of Local: Rebuilding Rail\, Rebuilding So
 uth Africa
DESCRIPTION:
LOCATION:Virtual
DTSTART:20260326T090000Z
DTEND:20260326T110000Z
DTSTAMP:20260206T093139Z
ORGANIZER;CN=Transport Forum:MAILTO:info@transportsig.com
END:VEVENT
END:VCALENDAR