BEGIN:VCALENDAR
VERSION:2.0
PRODID:Events Booking
BEGIN:VEVENT
UID:69e943cd76554
SUMMARY:3 December 2026 - Transport Forum year-end celebrations
DESCRIPTION:
LOCATION:Johannesburg
DTSTART:20261203T070000Z
DTEND:20261203T140000Z
DTSTAMP:20251211T055535Z
ORGANIZER;CN=Transport Forum:MAILTO:info@transportsig.com
END:VEVENT
END:VCALENDAR