BEGIN:VCALENDAR
VERSION:2.0
PRODID:Events Booking
BEGIN:VEVENT
UID:69e951bfdedde
SUMMARY:3 July 2025 - Promoting Zero Emissions in IPTNs
DESCRIPTION:&nbsp\;
 &nbsp\;
LOCATION:Virtual
DTSTART:20250703T070000Z
DTEND:20250703T110000Z
DTSTAMP:20250127T044555Z
ORGANIZER;CN=Transport Forum:MAILTO:info@transportsig.com
END:VEVENT
END:VCALENDAR