BEGIN:VCALENDAR
VERSION:2.0
PRODID:Events Booking
BEGIN:VEVENT
UID:69e9f2dea5ddb
SUMMARY:31 October 2024 - Transport Technology in Cape Town
DESCRIPTION:
LOCATION:Fritz Sonnenberg Road\, Green Point
DTSTART:20241031T080000Z
DTEND:20241031T140000Z
DTSTAMP:20240119T063027Z
ORGANIZER;CN=Transport Forum:MAILTO:info@transportsig.com
END:VEVENT
END:VCALENDAR