BEGIN:VCALENDAR
VERSION:2.0
PRODID:Events Booking
BEGIN:VEVENT
UID:69eadf79c13c3
SUMMARY:3rd Women in Transport and Infrastructure Leadership Summit
DESCRIPTION:
LOCATION:Hilton Hotel\, Sandton Johannesburg
DTSTART:20230928T060000Z
DTEND:20230929T143000Z
DTSTAMP:20230913T065212Z
ORGANIZER;CN=Transport Forum:MAILTO:info@transportsig.com
END:VEVENT
END:VCALENDAR