BEGIN:VCALENDAR
VERSION:2.0
PRODID:Events Booking
BEGIN:VEVENT
UID:69e9405ed68a9
SUMMARY:4 August 2025 - City of Johannesburg E-Hailing Management Policy: T
 owards Integration and Equity
DESCRIPTION:
LOCATION:Virtual
DTSTART:20250804T110000Z
DTEND:20250804T140000Z
DTSTAMP:20250724T092151Z
ORGANIZER;CN=Transport Forum:MAILTO:info@transportsig.com
END:VEVENT
END:VCALENDAR