BEGIN:VCALENDAR
VERSION:2.0
PRODID:Events Booking
BEGIN:VEVENT
UID:69e8f903bcd00
SUMMARY:4 December 2025 - Stakeholder and Industry Consultation on the draf
 t National Truck Stop Framework Study
DESCRIPTION:
LOCATION:Virtual
DTSTART:20251204T070000Z
DTEND:20251204T090000Z
DTSTAMP:20250402T060501Z
ORGANIZER;CN=Transport Forum:MAILTO:info@transportsig.com
END:VEVENT
END:VCALENDAR